BEGIN:VCALENDAR
VERSION:2.0
PRODID:Events Booking
BEGIN:VEVENT
UID:69ed60eed29e8
SUMMARY:Enhanced Oil Recovery Insights: IOR/EOR Potential at Black Bank Fie
 ld (Muddy)
DESCRIPTION:EORI is hosting a new Enhanced Oil Recovery Insights event \"An
  Integrated Approach to Reservoir Characterization for IOR/EOR Potential a
 t Black Bank Field (Muddy)\" from 8:00 – 10:00 AM on Wednesday\, June 3r
 d\, 2026 at the True River Cross Commons.
 Don't miss out on this chance 
 to connect with industry leaders and peers.
 Black Bank Field\, located i
 n the northernmost Wyoming\, is at its economic limit unless adequate IOR/
 EOR methods can be implemented. Detailed subsurface mapping of the Muddy r
 eservoir using sequence stratigraphic principles together with detailed co
 re analyses and brine compatibility studies are helping to determine optio
 ns for further actions. Finally\, reservoir modeling and simulation are pr
 oviding some insights into expected outcomes of various EOR strategies.
 
 Presenters:
 
 
 
 Dr. Maziar Arshadi
 Executive Vice President\, Pir
 i Technologies
 Dr. Maziar Arshadi is the Executive Vice President at Pir
 i Technologies\, where he supports the company’s day-to-day operations a
 nd business activities. He earned his Ph.D. in Petroleum Engineering from 
 the University of Wyoming and has over 14 years of experience in both tech
 nical and leadership roles. His work focuses on subsurface characterizatio
 n and engineering\, particularly multiphase flow and storage in complex ge
 osystems\, with applications in oil recovery and CO₂ sequestration.
 

  
 
 
 
 Joe Corning
 Energy Professional\, MT/WY Oil
 Joe Corning i
 s an energy professional with MT/WY Oil focused on transitional energy pro
 ject development\, enhanced oil recovery\, and brownfield renewables.
 

  
 
 
 
 Steve Whitaker
 Geologist
 Steve Whitaker is a highly exper
 ienced geologist who has worked with both major and independent oil compan
 ies involving numerous aspects of the oil industry. His work has included:
  mapping of subsurface and surface geology\, detailed prospect generation 
 in clastic\, carbonate\, and unconventional reservoirs\, petroleum enginee
 ring\, geophysics\, computer-enhanced mapping (Petra\, GeoGraphix)\, reser
 voir characterization\, development geology\, waterflood optimization\, ch
 emical EOR design and implementation\, acreage acquisition\, business mana
 gement\, project economics/risk analysis\, and operations. He ran his own 
 oil company for 16 years\, which conducted exploration and EOR/IOR program
 s. He has authored several publications related to oil exploration and dev
 elopment and has received awards for his presentations at regional\, natio
 nal\, and international technical conferences.
 
 
 
 There is no char
 ge for this event\, but registration is required as space is limited. Afte
 r registration\, a confirmation email will be sent. Coffee and breakfast s
 nacks will be provided.
 Virtual attendance is an option\, and you will r
 eceive a link to attend virtually in your event confirmation email after s
 igning up.
LOCATION:465 N Poplar St\, Casper\, WY 82601\, USA
DTSTART:20260603T140000Z
DTEND:20260603T160000Z
DTSTAMP:20260426T032856Z
ORGANIZER;CN=Enhanced Oil Recovery Institute:MAILTO:info@waveswebdesign.com
GEO:42.854668;-106.335549
X-APPLE-STRUCTURED-LOCATION;VALUE=URI;X-ADDRESS=465 N Poplar St\, Casper\, 
 WY 82601\, USA;X-APPLE-RADIUS=72;X-TITLE=True River Cross Commons:42.85466
 8;-106.335549
END:VEVENT
END:VCALENDAR