BEGIN:VCALENDAR
VERSION:2.0
PRODID:Events Booking
BEGIN:VEVENT
UID:69e7d5ff7d5e3
SUMMARY:Enhanced Oil Recovery Commission Meeting - 4th Quarter\, 2024
DESCRIPTION:Notice of Enhanced Oil Recovery Commission General Meeting with
  Executive Session
 4th Quarter -&nbsp\;December 3rd \, 1-5pm at the Casp
 er\, EORI Conference Room Suite 319 – Remote option
DTSTART:20241203T200000Z
DTEND:20241204T000000Z
DTSTAMP:20240907T032858Z
ORGANIZER;CN=Enhanced Oil Recovery Institute:MAILTO:info@waveswebdesign.com
END:VEVENT
END:VCALENDAR