BEGIN:VCALENDAR
VERSION:2.0
PRODID:Events Booking
BEGIN:VEVENT
UID:69e6a93989e3d
SUMMARY:Closed for Thanksgiving Holiday
DESCRIPTION:EORI offices will be closed in observance of the Thanksgiving H
 oliday on November 28-29\, 2024
 Thank you and Happy Thanksgiving!
DTSTART:20241128T160000Z
DTEND:20241130T000000Z
DTSTAMP:20241127T022016Z
ORGANIZER;CN=Enhanced Oil Recovery Institute:MAILTO:info@waveswebdesign.com
END:VEVENT
END:VCALENDAR