BEGIN:VCALENDAR
VERSION:2.0
PRODID:Events Booking
BEGIN:VEVENT
UID:69e7b99b5e44f
SUMMARY:Christmas Holiday and Winter Closure
DESCRIPTION:EORI offices will be closed in observance of the Holidays and W
 inter Break on December 24-30\, 2024
 Thank you and Happy Holidays!
DTSTART:20241224T070000Z
DTEND:20241230T070000Z
DTSTAMP:20241204T060553Z
ORGANIZER;CN=Enhanced Oil Recovery Institute:MAILTO:info@waveswebdesign.com
END:VEVENT
END:VCALENDAR